BEGIN:VCALENDAR
VERSION:2.0
CALSCALE:GREGORIAN
PRODID:-//Diputació de Barcelona//DibaCMS//EN
BEGIN:VEVENT
UID:5718
DTSTAMP:20260425T161109
DTSTART:20240902T110000
DTEND:20240902T130000
SUMMARY:Festa Major: Festa infantil amb Pansasons de Carles Cuberes
LOCATION:Plaça de la Rectoria 
METHOD:PUBLISH
X-WR-CALNAME:riupr.ajuntament@santaeulaliariuprimer.cat
X-WR-TIMEZONE:Europe/Madrid
DESCRIPTION:Festa infantil amb Pansasons de Carles Cuberes a la Plaça de la Rectoria.

URI:https://www.santaeulaliariuprimer.cat/actualitat/agenda/festa-major-festa-infantil-amb-pansasons-de-carles-cuberes.html
CLASS:PUBLIC
END:VEVENT
END:VCALENDAR
