BEGIN:VCALENDAR
VERSION:2.0
CALSCALE:GREGORIAN
PRODID:-//Diputació de Barcelona//DibaCMS//EN
BEGIN:VEVENT
UID:5756
DTSTAMP:20260425T193848
DTSTART:20240930T160000
DTEND:20240930T170000
SUMMARY:FES UN CAFÈ AMB L'ALCALDE! 
LOCATION:
METHOD:PUBLISH
X-WR-CALNAME:riupr.ajuntament@santaeulaliariuprimer.cat
X-WR-TIMEZONE:Europe/Madrid
DESCRIPTION:Si vols parlar de tu a tu amb l’alcalde Txevi Rovira en un ambient més distès, i exposar les teves propostes, queixes, preguntes, etc. Només has d’assistir a una de les trobades d’aquest programa de Govern obert i transparència.

La propera trobada serà el dilluns 30 de setembre a les 9h i a les 16h a la Cafeteria Sol 64

Com sempre, cal tenir present, que independentment del programa, es pot demanar hora a l’Ajuntament de manera oficial per parlar amb l’alcalde o les diferents regidories.

URI:https://www.santaeulaliariuprimer.cat/actualitat/agenda/5756-fes-un-cafe-amb-lalcalde-.html
CLASS:PUBLIC
END:VEVENT
END:VCALENDAR
