BEGIN:VCALENDAR
VERSION:2.0
CALSCALE:GREGORIAN
PRODID:-//Diputació de Barcelona//DibaCMS//EN
BEGIN:VEVENT
UID:5866
DTSTAMP:20260425T154718
DTSTART:20250105T180000
DTEND:20250105T220000
SUMMARY:Nit de Reis
LOCATION:
METHOD:PUBLISH
X-WR-CALNAME:riupr.ajuntament@santaeulaliariuprimer.cat
X-WR-TIMEZONE:Europe/Madrid
DESCRIPTION:La Comissió de Reis us comunica que Ses Majestats arribaran el diumenge dia 5 de gener de 2025 a les 18 hores.

Els tres Reis faran el següent recorregut: vindran de la Roureda (on hi hauran fet parada), pujaran pel Carrer Major, trencaran per la Carretera de Muntanyola i baixaran per l’Avinguda del Benestar fins la Plaça de l’Església on ens llegiran el seu discurs. En acabar, tots anirem cap al Pessebre Vivent on SSMM faran l'adoració. Els tres Reis d'Orient donaran la xocolata blanca, la coca i la regalèssia als nens i nenes a la sortida del pessebre. Si hi ha algun infant amb alguna intolerància, ens ho feu saber al correu reisriuprimer@gmail.com , abans d’acabar l’any.

Tothom qui vulgui participar de la cavalcada (edat mínima: 12 anys) té temps fins el 22 de desembre per omplir el formulari del següent enllaç.

Agrairem que no hi hagi cotxes aparcats als carrers i places per on passa la cavalcada (Carrer Major, Benestar i Plaça de l'Església).

URI:https://www.santaeulaliariuprimer.cat/actualitat/agenda/nit-de-reis.html
CLASS:PUBLIC
END:VEVENT
END:VCALENDAR
